BEGIN:VCALENDAR
VERSION:2.0
PRODID:-//Svara Sound | Sound Healing &amp; Floating Sound Baths in Connecticut - ECPv6.15.20//NONSGML v1.0//EN
CALSCALE:GREGORIAN
METHOD:PUBLISH
X-ORIGINAL-URL:https://svarasound.com
X-WR-CALDESC:Events for Svara Sound | Sound Healing &amp; Floating Sound Baths in Connecticut
REFRESH-INTERVAL;VALUE=DURATION:PT1H
X-Robots-Tag:noindex
X-PUBLISHED-TTL:PT1H
BEGIN:VTIMEZONE
TZID:America/New_York
BEGIN:DAYLIGHT
TZOFFSETFROM:-0500
TZOFFSETTO:-0400
TZNAME:EDT
DTSTART:20220313T070000
END:DAYLIGHT
BEGIN:STANDARD
TZOFFSETFROM:-0400
TZOFFSETTO:-0500
TZNAME:EST
DTSTART:20221106T060000
END:STANDARD
BEGIN:DAYLIGHT
TZOFFSETFROM:-0500
TZOFFSETTO:-0400
TZNAME:EDT
DTSTART:20230312T070000
END:DAYLIGHT
BEGIN:STANDARD
TZOFFSETFROM:-0400
TZOFFSETTO:-0500
TZNAME:EST
DTSTART:20231105T060000
END:STANDARD
BEGIN:DAYLIGHT
TZOFFSETFROM:-0500
TZOFFSETTO:-0400
TZNAME:EDT
DTSTART:20240310T070000
END:DAYLIGHT
BEGIN:STANDARD
TZOFFSETFROM:-0400
TZOFFSETTO:-0500
TZNAME:EST
DTSTART:20241103T060000
END:STANDARD
END:VTIMEZONE
BEGIN:VTIMEZONE
TZID:UTC
BEGIN:STANDARD
TZOFFSETFROM:+0000
TZOFFSETTO:+0000
TZNAME:UTC
DTSTART:20220101T000000
END:STANDARD
END:VTIMEZONE
BEGIN:VEVENT
DTSTART;TZID=America/New_York:20230505T183000
DTEND;TZID=America/New_York:20230505T194500
DTSTAMP:20260424T235831
CREATED:20230416T180603Z
LAST-MODIFIED:20230416T181316Z
UID:1811-1683311400-1683315900@svarasound.com
SUMMARY:Sound Healing at Unity Church
DESCRIPTION:Unity of Greater Hartford \nFriday Evening May 5th \n6:30 – 7:45 PM (doors open at 6) \n  \nUnity of Greater Hartford \n  \nMeditation is a powerful self-healing and transformative form of self-care\, and utilizing sound activates powerful\, healing shifts and tranquility. In this sacred space\, may you find stillness within and leave feeling relaxed and aligned once more. \n  \nJeff Nickell and Kimberly Autumn have for manyyears been providing sound meditation journeys for others. This meditative journey is a passive activity\, so please com eready to relax and receive. No meditation experience is necessary. \nKimberly and Jeff utilize sarcred instruments such as planetary attuned gongs\, ancient Himalayan singing bowls\, crystal bowls\, voice and other vibrational tools to create a harmonious and peaceful sound scape during your journey within. This sound healing will asssit you in reconnecting to peace and stillness and to a meditative state taht facilitates self-healing. \nRegistration: \n$25 per person \nRegister on site using the DONATE/REGISTER button: \nhttps://www.unityhartford.org \n  \n 
URL:https://svarasound.com/event/sound-healing-at-unity-church/
ATTACH;FMTTYPE=image/png:https://svarasound.com/wp-content/uploads/2023/04/download.png
ORGANIZER;CN="Unity of Hartford":MAILTO:officemgr@unityhartford.org
END:VEVENT
BEGIN:VEVENT
DTSTART;TZID=UTC:20230428T183000
DTEND;TZID=UTC:20230428T193000
DTSTAMP:20260424T235831
CREATED:20230415T213903Z
LAST-MODIFIED:20230416T001902Z
UID:1756-1682706600-1682710200@svarasound.com
SUMMARY:Sound Meditation at Middle River Yoga
DESCRIPTION:We warmly welcome you to join us for a relaxing Sound Meditation at Middle River Yoga! \nTake time for yourself to pause\, find alignment\, and balance. \nInner peace and stillness reside in each and every one of us. \nKimberly and Jeff utilize sacred instruments such as planetary attuned gongs\, ancient himalayan singing bowls\, crystal bowls\, voice\, and other vibrational tools to create a harmonious and peaceful soundscape during your journey within\, to reconnect to peace and stillness\, bringing you to a meditative state that facilitates self healing. The sound journey will offer your mind\, body and spirit the sanctuary and rest it needs. Through the healing vibrations of the instruments\, you are able to ease tension and let go into a deep\, full body relaxation. \nMeditation is a powerful self-healing and transformative form of self-care\, and utilizing Sound is an easy way for beginners and experienced alike to experience the powerful healing shifts and tranquility found within the meditative journey. In this sacred space\, may you find stillness within\, and leave feeling relaxed\, aligned\, and at ease\, aligned once more with stillness within.  \nJeff and Kimberly have been providing sound meditation journeys to others for many years. The meditative journey is a passive activity\, so please come ready to relax and receive. We know that daily life can cause the mind and body to tense\, and stress to build up. We’re here to help! \nNo yoga or meditation experience necessary. \nPlease bring pillows\, blankets\, mats\, and anything else you may need for you to get as comfortable as possible. \nDoors open at 6:30pm. Please arrive early to settle into the space and get comfy!\nTO RESERVE A SPOT PLEASE\nvenmo@yogashelly event is $25 per person \nDirections: \nMiddle River Yoga \n2 River Rd\, Stafford\, CT 06076 \nClick here for Google Maps Direction Link \n 
URL:https://svarasound.com/event/sound-meditation-at-middle-river-yoga/
LOCATION:Middle River Yoga\, 2 River Rd\, Stafford\, CT\, 06076\, United States
ATTACH;FMTTYPE=image/jpeg:https://svarasound.com/wp-content/uploads/2023/04/290139432_554695746279963_4439550053683818660_n-2.jpg
END:VEVENT
END:VCALENDAR